BEGIN:VCALENDAR
VERSION:2.0
PRODID:-//Spaces &amp; Experiences at U of T - ECPv6.15.20//NONSGML v1.0//EN
CALSCALE:GREGORIAN
METHOD:PUBLISH
X-ORIGINAL-URL:https://spacesandexperiences.utoronto.ca
X-WR-CALDESC:Events for Spaces &amp; Experiences at U of T
REFRESH-INTERVAL;VALUE=DURATION:PT1H
X-Robots-Tag:noindex
X-PUBLISHED-TTL:PT1H
BEGIN:VTIMEZONE
TZID:America/Toronto
BEGIN:DAYLIGHT
TZOFFSETFROM:-0500
TZOFFSETTO:-0400
TZNAME:EDT
DTSTART:20240310T070000
END:DAYLIGHT
BEGIN:STANDARD
TZOFFSETFROM:-0400
TZOFFSETTO:-0500
TZNAME:EST
DTSTART:20241103T060000
END:STANDARD
BEGIN:DAYLIGHT
TZOFFSETFROM:-0500
TZOFFSETTO:-0400
TZNAME:EDT
DTSTART:20250309T070000
END:DAYLIGHT
BEGIN:STANDARD
TZOFFSETFROM:-0400
TZOFFSETTO:-0500
TZNAME:EST
DTSTART:20251102T060000
END:STANDARD
BEGIN:DAYLIGHT
TZOFFSETFROM:-0500
TZOFFSETTO:-0400
TZNAME:EDT
DTSTART:20260308T070000
END:DAYLIGHT
BEGIN:STANDARD
TZOFFSETFROM:-0400
TZOFFSETTO:-0500
TZNAME:EST
DTSTART:20261101T060000
END:STANDARD
BEGIN:DAYLIGHT
TZOFFSETFROM:-0500
TZOFFSETTO:-0400
TZNAME:EDT
DTSTART:20270314T070000
END:DAYLIGHT
BEGIN:STANDARD
TZOFFSETFROM:-0400
TZOFFSETTO:-0500
TZNAME:EST
DTSTART:20271107T060000
END:STANDARD
END:VTIMEZONE
BEGIN:VEVENT
DTSTART;TZID=America/Toronto:20260326T113000
DTEND;TZID=America/Toronto:20260326T140000
DTSTAMP:20260422T052528
CREATED:20260306T172612Z
LAST-MODIFIED:20260306T172618Z
UID:10000006-1774524600-1774533600@spacesandexperiences.utoronto.ca
SUMMARY:Mac ‘n’ Cheese Smackdown
DESCRIPTION:Mac ‘n’ Cheese Smackdown is returning for its 13th annual competition\, bringing bold flavours\, creative twists\, and delicious rivalry to campus.Watch as some of your favourite U of T chefs battle it out in the ultimate Mac ‘n’ Cheese face-off with their own original\, signature creation. Taste your way through the competition\, cheer on your favourites\, and cast your vote to help decide who takes home the People’s Choice Award! \n\n\n\nThursday\, March 26\, 202611:30 AM – 2:00 PMGreat Hall at Hart House \n\n\n\nTicket Price: $10Includes samples from all entries! Proceeds will be donated to United Way Greater Toronto.
URL:https://spacesandexperiences.utoronto.ca/event/mac-n-cheese-smackdown-2/
LOCATION:Great Hall | Hart House\, 7 Hart House Circle\, Toronto\, Ontario\, M5S 3H3\, Canada
ATTACH;FMTTYPE=image/png:https://spacesandexperiences.utoronto.ca/wp-content/uploads/2026/03/mac-n-cheese-2026.png
END:VEVENT
BEGIN:VEVENT
DTSTART;TZID=America/Toronto:20260309T110000
DTEND;TZID=America/Toronto:20260329T170000
DTSTAMP:20260422T052528
CREATED:20260306T200913Z
LAST-MODIFIED:20260306T200944Z
UID:10000007-1773054000-1774803600@spacesandexperiences.utoronto.ca
SUMMARY:Pasta special | Foodie Finds Pop-Up
DESCRIPTION:Foodie Finds is coming to Sid’s Food Hall! \n\n\n\nStarting March 9\, enjoy a limited-time pasta pop-up featuring six chef-crafted favourites\, including: \n\n\n\n\nBolognese\n\n\n\nAglio Olio & Peperoncino\n\n\n\nChicken Alfredo\n\n\n\nCreamy Italian Rosé Sauce\n\n\n\nSpaghetti & Meatballs\n\n\n\nMac & Cheese
URL:https://spacesandexperiences.utoronto.ca/event/pasta-special-foodie-finds-pop-up/
LOCATION:Sid’s Food Hall\, 100 St George st\, Toronto\, Ontario\, Canada
ATTACH;FMTTYPE=image/jpeg:https://spacesandexperiences.utoronto.ca/wp-content/uploads/2026/03/Sids-Weekly-Special-Pasta-1.jpg
END:VEVENT
BEGIN:VEVENT
DTSTART;TZID=America/Toronto:20260130T090000
DTEND;TZID=America/Toronto:20260130T170000
DTSTAMP:20260422T052528
CREATED:20260105T150856Z
LAST-MODIFIED:20260105T151009Z
UID:10000005-1769763600-1769792400@spacesandexperiences.utoronto.ca
SUMMARY:Lion Dance Performances
DESCRIPTION:Enjoy the festivities at one of the Lion Dance performances. It’s a perfect opportunity to celebrate\, take photos\, and share the joy of the Year of the Horse with the U of T community.
URL:https://spacesandexperiences.utoronto.ca/event/lion-dance-performances/
LOCATION:Ontario
ATTACH;FMTTYPE=image/jpeg:https://spacesandexperiences.utoronto.ca/wp-content/uploads/2025/01/Lunar-New-Year-2025.jpg
END:VEVENT
BEGIN:VEVENT
DTSTART;TZID=America/Toronto:20251029T113000
DTEND;TZID=America/Toronto:20251029T140000
DTSTAMP:20260422T052528
CREATED:20251007T155201Z
LAST-MODIFIED:20251007T155345Z
UID:10000003-1761737400-1761746400@spacesandexperiences.utoronto.ca
SUMMARY:Street Food Smackdown
DESCRIPTION:Get ready for the first-ever Street Food Smackdown on campus! #UofTSmackdown \n\n\n\nIntroducing a brand-new twist on U of T’s most beloved food competition\, the Mac & Cheese Smackdown…welcome to Street Food Smackdown! This exciting event brings the same fun\, energy\, and delicious rivalry\, but with bold\, creative\, street-food-inspired dishes. \n\n\n\nWatch as some of your favourite campus chefs go head-to-head\, serving up their most inventive street food creations. Taste your way through the competition\, cheer on your favourites\, and cast your vote to help crown the very first Street Food Smackdown People’s Choice champion! \n\n\n\n\n\n\nGet your ticket today!
URL:https://spacesandexperiences.utoronto.ca/event/street-food-smackdown/
LOCATION:Great Hall | Hart House\, 7 Hart House Circle\, Toronto\, Ontario\, M5S 3H3\, Canada
ATTACH;FMTTYPE=image/jpeg:https://spacesandexperiences.utoronto.ca/wp-content/uploads/2025/10/MC-Smackdown-Website-Featured-Image.jpg
END:VEVENT
BEGIN:VEVENT
DTSTART;TZID=America/Toronto:20250402T113000
DTEND;TZID=America/Toronto:20250402T140000
DTSTAMP:20260422T052528
CREATED:20250310T132932Z
LAST-MODIFIED:20250310T132932Z
UID:10000001-1743593400-1743602400@spacesandexperiences.utoronto.ca
SUMMARY:Mac ‘n’ Cheese Smackdown
DESCRIPTION:Mac ‘n’ Cheese Smackdown is back for another year of cheesy\, gooey\, and golden deliciousness! \n\n\n\nWatch as the some of your favourite campus chefs go head-to-head\, serving up their most creative and mouthwatering Mac ‘n’ Cheese creations. Taste your way through the competition\, cheer on your favourites\, and cast your vote to help crown this year’s People’s Choice champion!
URL:https://spacesandexperiences.utoronto.ca/event/mac-n-cheese-smackdown/
LOCATION:Great Hall | Hart House\, 7 Hart House Circle\, Toronto\, Ontario\, M5S 3H3\, Canada
ATTACH;FMTTYPE=image/gif:https://spacesandexperiences.utoronto.ca/wp-content/uploads/2025/03/MacandCheese-gif.gif
END:VEVENT
END:VCALENDAR